BEGIN:VCALENDAR
PRODID:-//PUBBLE//agenda//NL
VERSION:2.0
METHOD:PUBLISH
BEGIN:VEVENT
DTSTART:20260613T080000Z
DTEND:20260613T100000Z
DTSTAMP:20260420T010110Z
UID:d12b940f-616f-42e2-967b-de04c5eb3967
CREATED:20260420T010110Z
NAME:Ouderenzorg: verledern, heden en toekomst huisaanhuisenschede.nl
X-WR-CALNAME:Ouderenzorg: verledern, heden en toekomst
X-ALT-DESC;FMTTYPE=text/html:<a href='/agenda/2026/6/13/ouderenzorg-verledern-heden-en-toekomst-135839'>/agenda/2026/6/13/ouderenzorg-verledern-heden-en-toekomst-135839</a> || <p><strong>Op zaterdag 13 juni 2026 om 10.00 uur in het dorpshuis Lonneker geeft Jan Voortman een lezing “Ouderenzorg in verleden, heden en toekomst”.</strong></p><p>Ouderenzorg staat flink in de belangstelling: er zijn steeds meer ouderen, en die worden ook nog eens steeds ouder. Tegelijk zijn de financiële middelen om de zorg voor deze groep te bekostigen beperkt. En de verzorgingshuizen zijn afgeschaft, want “de mensen willen (moeten?) steeds langer in hun eigen huis blijven wonen”.</p><p>Geen wonder dat velen zich afvragen hoe het verder moet, en wat hen te wachten staat als ze zelf ouder worden en mogelijk hulpbehoevend.</p><p>Was het vroeger beter? Is het tegenwoordig slechter en wordt het nog erger in de toekomst met de verwachte tekorten aan zorgmedewerkers? En wat kunnen we dan wel doen?&nbsp;</p><p>Jan Voortman is psycholoog en cognitief gedragstherapeut, en was tot zijn pensionering werkzaam als directeur van 6 verpleeg- en verzorgingshuizen in Twente</p>
DESCRIPTION:<a href='/agenda/2026/6/13/ouderenzorg-verledern-heden-en-toekomst-135839'>/agenda/2026/6/13/ouderenzorg-verledern-heden-en-toekomst-135839</a> || <p><strong>Op zaterdag 13 juni 2026 om 10.00 uur in het dorpshuis Lonneker geeft Jan Voortman een lezing “Ouderenzorg in verleden, heden en toekomst”.</strong></p><p>Ouderenzorg staat flink in de belangstelling: er zijn steeds meer ouderen, en die worden ook nog eens steeds ouder. Tegelijk zijn de financiële middelen om de zorg voor deze groep te bekostigen beperkt. En de verzorgingshuizen zijn afgeschaft, want “de mensen willen (moeten?) steeds langer in hun eigen huis blijven wonen”.</p><p>Geen wonder dat velen zich afvragen hoe het verder moet, en wat hen te wachten staat als ze zelf ouder worden en mogelijk hulpbehoevend.</p><p>Was het vroeger beter? Is het tegenwoordig slechter en wordt het nog erger in de toekomst met de verwachte tekorten aan zorgmedewerkers? En wat kunnen we dan wel doen?&nbsp;</p><p>Jan Voortman is psycholoog en cognitief gedragstherapeut, en was tot zijn pensionering werkzaam als directeur van 6 verpleeg- en verzorgingshuizen in Twente</p>
LAST-MODIFIED:20260420T010110Z
LOCATION: Lonneker | Dorpsplein 137 Enschede
SEQUENCE:0
STATUS:CONFIRMED
SUMMARY:Ouderenzorg: verledern, heden en toekomst
TRANSP:OPAQUE
END:VEVENT
END:VCALENDAR
