BEGIN:VCALENDAR
PRODID:-//PUBBLE//agenda//NL
VERSION:2.0
METHOD:PUBLISH
BEGIN:VEVENT
DTSTART:20260505T180000Z
DTEND:20260505T193000Z
DTSTAMP:20260420T010950Z
UID:2c6d8932-cdea-4992-ba95-d96ec871e5da
CREATED:20260420T010950Z
NAME:LEZING | Hart orgaan van eenheid huisaanhuisenschede.nl
X-WR-CALNAME:LEZING | Hart orgaan van eenheid
X-ALT-DESC;FMTTYPE=text/html:<a href='/agenda/2026/5/5/lezing-hart-orgaan-van-eenheid-135801'>/agenda/2026/5/5/lezing-hart-orgaan-van-eenheid-135801</a> || <p><em>Ontdek hoe iedere geestelijke ontwikkeling haar oorsprong vindt in het hart – het centrum van eenheid en verbinding. Laat je inspireren door de bijzondere structuur van het hart als spiegel van ons diepste verlangen naar verbondenheid.</em><br><br>Iedere geestelijke ontwikkeling begint in het hart. Het hart is het centrum van eenheid – de plek waar verbinding ontstaat. Het is dan ook niet verwonderlijk dat juist in de structuur van het hart dit principe van eenheid zichtbaar wordt.<br><br>De opbouw van de cellen van de hartspier verschilt wezenlijk van die van andere cellen. In de hartcellen zien we hoe ogenschijnlijk gescheiden delen zich steeds weer met elkaar willen verbinden tot een levend geheel. Zo vinden we in het fysieke hart een bijzondere afspiegeling van het diepere menselijke verlangen naar verbondenheid.<br><br>Tijdens deze avond verkennen we samen de betekenis van het hart in de geestelijke ontwikkeling, zoals deze wordt belicht binnen de School van het Gouden Rozenkruis.<br><br>Je bent van harte welkom.<br><br>Locatie: Lasondersingel 188, Enschede<br>Kosten: gratis.<br>Aanvang: 20.00 uur, inloop vanaf 19.45 uur (met koffie en thee). <br><br>Meer informatie: https://www.rozenkruis.nl/locatie/Enschede.</p>
DESCRIPTION:<a href='/agenda/2026/5/5/lezing-hart-orgaan-van-eenheid-135801'>/agenda/2026/5/5/lezing-hart-orgaan-van-eenheid-135801</a> || <p><em>Ontdek hoe iedere geestelijke ontwikkeling haar oorsprong vindt in het hart – het centrum van eenheid en verbinding. Laat je inspireren door de bijzondere structuur van het hart als spiegel van ons diepste verlangen naar verbondenheid.</em><br><br>Iedere geestelijke ontwikkeling begint in het hart. Het hart is het centrum van eenheid – de plek waar verbinding ontstaat. Het is dan ook niet verwonderlijk dat juist in de structuur van het hart dit principe van eenheid zichtbaar wordt.<br><br>De opbouw van de cellen van de hartspier verschilt wezenlijk van die van andere cellen. In de hartcellen zien we hoe ogenschijnlijk gescheiden delen zich steeds weer met elkaar willen verbinden tot een levend geheel. Zo vinden we in het fysieke hart een bijzondere afspiegeling van het diepere menselijke verlangen naar verbondenheid.<br><br>Tijdens deze avond verkennen we samen de betekenis van het hart in de geestelijke ontwikkeling, zoals deze wordt belicht binnen de School van het Gouden Rozenkruis.<br><br>Je bent van harte welkom.<br><br>Locatie: Lasondersingel 188, Enschede<br>Kosten: gratis.<br>Aanvang: 20.00 uur, inloop vanaf 19.45 uur (met koffie en thee). <br><br>Meer informatie: https://www.rozenkruis.nl/locatie/Enschede.</p>
LAST-MODIFIED:20260420T010950Z
LOCATION: Gouden Rozenkruis | Lasondersingel 188 Enschede
SEQUENCE:0
STATUS:CONFIRMED
SUMMARY:LEZING | Hart orgaan van eenheid
TRANSP:OPAQUE
END:VEVENT
END:VCALENDAR
