BEGIN:VCALENDAR
PRODID:-//PUBBLE//agenda//NL
VERSION:2.0
METHOD:PUBLISH
BEGIN:VEVENT
DTSTART:20260506T100000Z
DTEND:20260506T110000Z
DTSTAMP:20260420T011207Z
UID:f2185e23-3088-4e99-9d77-bdadcc540dbd
CREATED:20260420T011207Z
NAME:Rondleiding Joodse begraafplaats Enschede huisaanhuisenschede.nl
X-WR-CALNAME:Rondleiding Joodse begraafplaats Enschede
X-ALT-DESC;FMTTYPE=text/html:<a href='/agenda/2026/5/6/rondleiding-joodse-begraafplaats-enschede-135790'>/agenda/2026/5/6/rondleiding-joodse-begraafplaats-enschede-135790</a> || <p>&nbsp;Op &nbsp;woensdag 6 mei is er om 12 uur een rondleiding op de Joodse Begraafplaats in Enschede.</p><p>In 1928 werd aan de Noord Esmarkerrondweg een begraafplaats gesticht door de Joodse gemeente van Enschede. De begraafplaats met toegangshek en aula werd ontworpen door de architecten A.P. Smits en C. van der Linde, die in diezelfde periode ook de bouw van de Synagoge aan de Prinsestraat voor hun rekening namen. De aula van de begraafplaats is duidelijk geïnspireerd op het ontwerp van de Synagoge door P.C. de Bazel.&nbsp;</p><p>Ook &nbsp;bevindt zich er een gedenksteen voor de herbegraven stoffelijke resten van een geruimde begraafplaats aan de Molenstraat. Tijdens uw bezoek worden er meer details toegelicht, zoals gebruiken bij begraven en rouwperiode.</p><p>Aanmelden via: secretariaat@synagogeenschede.nl&nbsp; Kosten € 6,00 pp</p>
DESCRIPTION:<a href='/agenda/2026/5/6/rondleiding-joodse-begraafplaats-enschede-135790'>/agenda/2026/5/6/rondleiding-joodse-begraafplaats-enschede-135790</a> || <p>&nbsp;Op &nbsp;woensdag 6 mei is er om 12 uur een rondleiding op de Joodse Begraafplaats in Enschede.</p><p>In 1928 werd aan de Noord Esmarkerrondweg een begraafplaats gesticht door de Joodse gemeente van Enschede. De begraafplaats met toegangshek en aula werd ontworpen door de architecten A.P. Smits en C. van der Linde, die in diezelfde periode ook de bouw van de Synagoge aan de Prinsestraat voor hun rekening namen. De aula van de begraafplaats is duidelijk geïnspireerd op het ontwerp van de Synagoge door P.C. de Bazel.&nbsp;</p><p>Ook &nbsp;bevindt zich er een gedenksteen voor de herbegraven stoffelijke resten van een geruimde begraafplaats aan de Molenstraat. Tijdens uw bezoek worden er meer details toegelicht, zoals gebruiken bij begraven en rouwperiode.</p><p>Aanmelden via: secretariaat@synagogeenschede.nl&nbsp; Kosten € 6,00 pp</p>
LAST-MODIFIED:20260420T011207Z
LOCATION: Joodse Begraafplaats | Noord Esmarkerrondweg 413 Enschede
SEQUENCE:0
STATUS:CONFIRMED
SUMMARY:Rondleiding Joodse begraafplaats Enschede
TRANSP:OPAQUE
END:VEVENT
END:VCALENDAR
